BEGIN:VCALENDAR
VERSION:2.0
PRODID:-//Kentucky Heartwood - ECPv6.15.20//NONSGML v1.0//EN
CALSCALE:GREGORIAN
METHOD:PUBLISH
X-WR-CALNAME:Kentucky Heartwood
X-ORIGINAL-URL:https://kyheartwood.org
X-WR-CALDESC:Events for Kentucky Heartwood
REFRESH-INTERVAL;VALUE=DURATION:PT1H
X-Robots-Tag:noindex
X-PUBLISHED-TTL:PT1H
BEGIN:VTIMEZONE
TZID:America/Halifax
BEGIN:DAYLIGHT
TZOFFSETFROM:-0400
TZOFFSETTO:-0300
TZNAME:ADT
DTSTART:20220313T060000
END:DAYLIGHT
BEGIN:STANDARD
TZOFFSETFROM:-0300
TZOFFSETTO:-0400
TZNAME:AST
DTSTART:20221106T050000
END:STANDARD
BEGIN:DAYLIGHT
TZOFFSETFROM:-0400
TZOFFSETTO:-0300
TZNAME:ADT
DTSTART:20230312T060000
END:DAYLIGHT
BEGIN:STANDARD
TZOFFSETFROM:-0300
TZOFFSETTO:-0400
TZNAME:AST
DTSTART:20231105T050000
END:STANDARD
BEGIN:DAYLIGHT
TZOFFSETFROM:-0400
TZOFFSETTO:-0300
TZNAME:ADT
DTSTART:20240310T060000
END:DAYLIGHT
BEGIN:STANDARD
TZOFFSETFROM:-0300
TZOFFSETTO:-0400
TZNAME:AST
DTSTART:20241103T050000
END:STANDARD
BEGIN:DAYLIGHT
TZOFFSETFROM:-0400
TZOFFSETTO:-0300
TZNAME:ADT
DTSTART:20250309T060000
END:DAYLIGHT
BEGIN:STANDARD
TZOFFSETFROM:-0300
TZOFFSETTO:-0400
TZNAME:AST
DTSTART:20251102T050000
END:STANDARD
END:VTIMEZONE
BEGIN:VEVENT
DTSTART;TZID=America/Halifax:20240405T093000
DTEND;TZID=America/Halifax:20240406T150000
DTSTAMP:20260422T084938
CREATED:20240326T194813Z
LAST-MODIFIED:20240326T194813Z
UID:2211-1712309400-1712415600@kyheartwood.org
SUMMARY:Hemlock Volunteer Days!
DESCRIPTION:Join the Kentucky Division of Forestry and the Office of Kentucky Nature Preserves to learn about the Hemlock Wooley Adelgid\, the invasive insect killing hemlock trees. After that\, attendees will spend the day saving hemlock trees along the Dog Slaughter Falls. \n  \nHow: Email alexandra.blevins@ky.gov to sign up!
URL:https://kyheartwood.org/event/hemlock-volunteer-days/
LOCATION:Cumberland Falls State Park + Lodge\, 7351 KY-90\, Corbin\, Kentucky\, 40701
ATTACH;FMTTYPE=image/jpeg:https://e3caiphmd3c.exactdn.com/wp-content/uploads/2024/03/2024_volunteeerday.jpg
END:VEVENT
BEGIN:VEVENT
DTSTART;TZID=America/Halifax:20240224T110000
DTEND;TZID=America/Halifax:20240224T170000
DTSTAMP:20260422T084938
CREATED:20240109T205627Z
LAST-MODIFIED:20240208T182229Z
UID:2038-1708772400-1708794000@kyheartwood.org
SUMMARY:Member's only hike to Beaver Creek Wilderness\, Burnside\, KY
DESCRIPTION:Join Kentucky Heartwood staff and members as we explore the Three Forks of Beaver Trail in the Beaver Creek Wilderness.  We will start on the top of the plateau\, hiking through a mature forest that KY Heartwood successfully advocated to exclude from logging as part of the Greenwood project. We will quickly travel below the cliff line\, where the Wilderness boundary starts\, and explore Beaver Creek and its tributaries. Then we will climb out of the Wilderness and hike a short distance to the Three Forks overlook\, giving us a view of the area that we just traversed.  \nQuiet contemplation will be encouraged for several legs of this hike to preserve the spirit of the wilderness.  \nThe Hike: 3 miles on trail. The formal hike will take about 3 hours\, but there is potential for additional exploration.  \nMeeting point: At the Three Forks of Beaver Trailhead\, located here: https://maps.app.goo.gl/vFyxd1VZrUEkzr7c7 \nMeeting time: 10:45 – Hike will begin promptly at 11:00am. Please arrive a bit before 11 to ensure we stay on schedule. \nRegistration: Please fill out our registration form and complete for each individual planning to attend. We must have a liability waiver on file for every attendee. \nMore about Beaver Creek Wilderness: \nThe 4\,877 acre Beaver Creek Wilderness was designated by Congress as part of the 1975 Eastern Wilderness Act\, which preserved this area “as an enduring resource of wildness which shall be managed to promote and perpetuate the wilderness character of the land and its specific values of solitude\, physical and mental challenge\, scientific study\, inspiration\, and primitive recreation for the benefit of all of the American people of present and future generations.” \nBeaver Creek Wilderness is unusual in its boundary. The designated Wilderness includes only lands below the canyon’s cliffline\, and so follows the pattern of Beaver Creek and its entrenched tributaries. While it is easy to find solitude and inspiration in the hidden depths of forest beneath the canyon walls\, in many places the Wilderness is less than a half-mile in width.  \nWith very few exceptions\, the Forest Service is prohibited from logging\, burning\, or using herbicides in Wilderness areas. However\, the Forest Service is logging more than 1\,000 acres of forest near the Beaver Creek Wilderness boundary.  \n  \nWhat to wear and bring: There is an optional creek crossing that will be more enjoyable with waterproof boots and hiking poles. Bring sufficient water and snacks – we will stop for a snack break creekside at the spot where the Three Forks of Beaver Creek come together – the Middle Fork joins Freeman Fork and Little Hurricane Fork. You will likely have cell service at the trailhead\, but it will not work inside the Wilderness.  \nPlease be aware that Kentucky Heartwood is not equipped to provide any emergency care\, and participants are responsible for their own well-being. The registration form includes a liability waiver that all participants must sign.
URL:https://kyheartwood.org/event/members-only-hike-to-beaver-creek-wilderness-burnside-ky/
LOCATION:Three Forks of Beaver Trailhead\, WH42+RJ\, Sawyer\, KY\, 42634\, United States
ATTACH;FMTTYPE=image/jpeg:https://e3caiphmd3c.exactdn.com/wp-content/uploads/2024/01/beaver-creek-wilderness-sign-jim-11_8_15.jpg
END:VEVENT
BEGIN:VEVENT
DTSTART;TZID=America/Halifax:20240202T090000
DTEND;TZID=America/Halifax:20240202T113000
DTSTAMP:20260422T084938
CREATED:20240118T173204Z
LAST-MODIFIED:20240118T173204Z
UID:2060-1706864400-1706873400@kyheartwood.org
SUMMARY:Kentucky Botanical Symposium
DESCRIPTION:The Kentucky Native Plant Society (KNPS) and the Office of Kentucky Nature Preserves (OKNP) is co-hosting the 4th annual Kentucky Botanical Symposium on Friday\, February 2nd\, from 9:00AM-11:30AM EST. For ten years\, KNPS has organized a botanical symposium with a goal of bringing together professionals\, community scientists\, academics\, researchers\, gardeners\, and students to learn about what is going on in the world of Kentucky botany and beyond.\n\nThis year\, speakers and facilitators include Jeff Nelson providing KNPS updates\, Tara Littlefield (OKNP) providing current state updates related to Kentucky plant conservation\, Bashira Chowdhury (Mississippi State University) discussing Prices potato bean (Apios priceana) and pollinators\, Vanessa Volker (OKNP) presenting awards for the Kentucky Botanist Big Year project on iNaturalist\, Dr. Sally Chambers (Eastern Kentucky University) discussing filmy fern (Vandenboschia boschiana)\, Dr. Shawn Krosnick and Chris Waters (Tennessee Tech) covering pollinator interactions in rare plants and Invasive Plant Assessments by Frannie Preston\, Dr. Ellen Crocker (University of Kentucky and Invasive Plant Council-KY-IPC) and more!
URL:https://kyheartwood.org/event/kentucky-botanical-symposium/
LOCATION:Virtual
ATTACH;FMTTYPE=image/jpeg:https://e3caiphmd3c.exactdn.com/wp-content/uploads/2024/01/KY-Bot-Symposium.jpg
END:VEVENT
BEGIN:VEVENT
DTSTART;TZID=America/Halifax:20240121T160000
DTEND;TZID=America/Halifax:20240121T173000
DTSTAMP:20260422T084938
CREATED:20240111T201134Z
LAST-MODIFIED:20240111T202315Z
UID:2057-1705852800-1705858200@kyheartwood.org
SUMMARY:Bird walk and Owl Prowl!
DESCRIPTION:Join Central Kentucky Audubon Society for a brisk evening walk as we look for backyard birds and urban owls.\n_________________________________________\nWhen: January 21st\, 2024 – 4:00 to 5:30pm\nWhere: Dogwood Trace Blvd\, Lexington\, KY 40514\nTarget Species: Barred Owl\, Golden-crowned Kinglet\, Brown Creeper\, Northern Flicker\, and Dark-eyed Junco.\nTerrain: Easy. Paved walking path and grass\, some dirt trail.\nPace: Slow to moderate.\nDistance: About 1.25 miles total.\nRestrooms: unknown\n\nRead more about the event on facebook here!
URL:https://kyheartwood.org/event/bird-walk-and-owl-prowl/
LOCATION:KY
ATTACH;FMTTYPE=image/jpeg:https://e3caiphmd3c.exactdn.com/wp-content/uploads/2024/01/owl-2014a-1.jpg
END:VEVENT
BEGIN:VEVENT
DTSTART;TZID=America/Halifax:20240121T130000
DTEND;TZID=America/Halifax:20240121T170000
DTSTAMP:20260422T084938
CREATED:20240109T190740Z
LAST-MODIFIED:20240109T210712Z
UID:2035-1705842000-1705856400@kyheartwood.org
SUMMARY:KY Conservation Committee Legislative Summit 2024
DESCRIPTION:Want the latest information on environmental issues impacting Kentucky? Want to be a more effective citizen advocate during the General Assembly? Join KY Conservation Committee on Sunday afternoon (1:00-5:00 ET) on January 21st\, at the Kentucky State University campus in Frankfort\, KSU Extension Building Room 238 (virtual option also available).  \nKCC will discuss continuing and emerging environmental issues during Kentucky’s 2024 legislative session\, and provide resources you will need to be an effective advocate for these issues impacting Kentucky. \nRegistration for this legislative event is now open! \nThis year’s conference will include a special Keynote by the Chairman of the Kentucky Public Service Commission\, Kent Chandler. Plus panels to discuss current topics such as: \n\nImpacts of PFAS chemicals on our waterways\nLand conservation & outdoor recreation issues\nTransportation\, including the future of electric vehicle infrastructure\nPlus our overview of legislation filed to date\n\nThis conference is also KCC’s Annual Meeting\, where all members are welcome to participate. Members in good standing can VOTE for this year’s candidates for KCC’s Board of Directors. You can find ballot information and candidate bios HERE and also linked on our legislative conference website.
URL:https://kyheartwood.org/event/ky-conservation-committee-legislative-summit-2024/
LOCATION:Kentucky State University\, 400 East Main St\, Frankfort\, Kentucky\, 40601
ATTACH;FMTTYPE=image/jpeg:https://e3caiphmd3c.exactdn.com/wp-content/uploads/2024/01/KY-Conservation-Committe-summit.jpg
END:VEVENT
BEGIN:VEVENT
DTSTART;TZID=America/Halifax:20240116T190000
DTEND;TZID=America/Halifax:20240116T203000
DTSTAMP:20260422T084938
CREATED:20240108T181833Z
LAST-MODIFIED:20240109T211338Z
UID:2033-1705431600-1705437000@kyheartwood.org
SUMMARY:Public Webinar Discussion; Mature and Old-Growth Protections
DESCRIPTION:The Biden administration has announced that it is taking comments on a proposal aimed at protecting mature and old-growth forests across America’s national forest system. The proposal includes some great language that could represent critical protections and planning for old-growth forests. \nBut it also leaves the door wide open for the Forest Service to continue cutting and clearing mature and old-growth forests when they decide that preserving these forests “is not relevant or beneficial.” \nTo help the public better understand and engage in the ongoing public comment process\, Kentucky Heartwood will host an online discussion led by our Ecologist\, Jim Scheff. The discussion will cover the positive aspects of the proposal along with its flaws and vulnerabilities\, with an emphasis on how it could affect the conservation of mature and old-growth forests across Kentucky’s Daniel Boone National Forest. \n  \nHow: Register via the link here! This event will be virtual via zoom. Please register if you plan to attend so we can gauge interest. Thank you!
URL:https://kyheartwood.org/event/public-webinar-discussion-mature-and-old-growth-protections/
LOCATION:KY
ATTACH;FMTTYPE=image/jpeg:https://e3caiphmd3c.exactdn.com/wp-content/uploads/2024/01/Jim-pine-Blackwater-IRMS.jpg
ORGANIZER;CN="Kentucky Heartwood":MAILTO:info@kyheartwood.org
END:VEVENT
BEGIN:VEVENT
DTSTART;TZID=America/Halifax:20240115T190000
DTEND;TZID=America/Halifax:20240115T203000
DTSTAMP:20260422T084938
CREATED:20240111T160939Z
LAST-MODIFIED:20240111T163316Z
UID:2049-1705345200-1705350600@kyheartwood.org
SUMMARY:Stream Restoration Discussion with Botanist\, Julian Campbell
DESCRIPTION:Julian Campbell will present a critical review of vegetation issues in “so-called” stream restoration on Daniel Boone National Forest. \nWhen: Monday\, January 15\, 2024 @ 7:00pm \nWhere: Hunter Presbyterian Church\, 109 Rosemont Garden\, Lexington KY. \nExcerpt from Julian: “I first became aware of the potential pitfalls in so-called “stream restoration” 10 years ago at Cane Run on the north side of Lexington. That project came with several unsupported claims about its benefits. But its primary motivation seems to have been political\, as a “Supplementary Environmental Project” (SEP) costing about one million dollars. The EPA approved this SEP as a face-saving substitute for the city having to pay a fine of the same amount (due to its long history of sewage-related infractions). I have since learned that various kinds of “stream restoration” across the nation often have had questionable motives and outcomes.”
URL:https://kyheartwood.org/event/stream-restoration-talk/
LOCATION:KY
ATTACH;FMTTYPE=image/jpeg:https://e3caiphmd3c.exactdn.com/wp-content/uploads/2024/01/julian.jpg
END:VEVENT
BEGIN:VEVENT
DTSTART;TZID=America/Halifax:20231203T120000
DTEND;TZID=America/Halifax:20231203T170000
DTSTAMP:20260422T084938
CREATED:20231101T172526Z
LAST-MODIFIED:20231101T172526Z
UID:1676-1701604800-1701622800@kyheartwood.org
SUMMARY:FERAL FOLK HOLIDAY MARKET
DESCRIPTION:What and Why: Join us for a specialty market\, curated by local artisans\, farmers\, and crafters hosted by Kentucky Heartwood!  At this market\, you can expect to find eco-conscious gifts for anyone on your list. The goal of this event is to highlight local business owners who are eco-conscious and sustainable\, and offer one-of-a-kind items to gift your loved ones this Holiday! Join Kentucky Heartwood for a day of craft beer\, community\, and supporting LOCAL!\nHow: Grab a friend! Come brunch and shop a curated market of local\, handmade goods to gift this holiday season! No ticket or RSVP is required. \nWhat kinds of vendors can you expect? See a few below! \n\nAmong the Oaks Herb Farm\n\nHerbs\, Tea Blends\n\n\nLaughing Moon Fiberworks\n\nUpcycled\, naturally dyed clothing and home goods\n\n\nSylvatica Forest Farm\n\nEducational Workshops\, Hands-on workshops\, Native Nursery\n\n\nResilient Roots Community Herbalism\n\nHandcrafted herbal supplements and tinctures\n\n\nSeed Disputanta\n\nHandcrafted jewelry made from native Kentucky seeds\n\n\n\nStay tuned for more details as we get closer to the event!
URL:https://kyheartwood.org/event/feral-folk-holiday-market/
LOCATION:West Sixth Brewery\, 501 W 6th St #100\, Lexington\, Kentucky\, 40508
ATTACH;FMTTYPE=image/webp:https://e3caiphmd3c.exactdn.com/wp-content/uploads/2023/11/feral_folk_instagram_480x480.webp
END:VEVENT
BEGIN:VEVENT
DTSTART;TZID=America/Halifax:20231111T150000
DTEND;TZID=America/Halifax:20231111T160000
DTSTAMP:20260422T084938
CREATED:20231101T172020Z
LAST-MODIFIED:20231101T172020Z
UID:1670-1699714800-1699718400@kyheartwood.org
SUMMARY:JIM SCHEFF PRESENTS: "Protecting Kentucky's Forests" at Sierra Club Annual Gathering
DESCRIPTION:What and Why: Join Kentucky Heartwood’s very own Jim Scheff for an hour-long presentation highlighting the importance of our wild places in Kentucky and how you can get involved to protect them.\nHow: Register to attend here! Must register by October 27th\, 2023
URL:https://kyheartwood.org/event/jim-scheff-presents-protecting-kentuckys-forests-at-sierra-club-annual-gathering/
LOCATION:Rough River Dam State Resort Park\, 450 Lodge Rd\, Falls of Rough\, KY\, 40119\, United States
END:VEVENT
BEGIN:VEVENT
DTSTART;TZID=America/Halifax:20231110T080000
DTEND;TZID=America/Halifax:20231112T170000
DTSTAMP:20260422T084938
CREATED:20231101T163428Z
LAST-MODIFIED:20231101T163428Z
UID:1656-1699603200-1699808400@kyheartwood.org
SUMMARY:Sierra Club Annual Gathering "Come Together\, East to West"
DESCRIPTION:What and Why: Join members of Kentucky’s Sierra Club chapters to energize and educate our members and friends on environmental issues relevant to Kentucky and the nation. There will be plenty of opportunities to socialize on Friday and Saturday evenings.  Saturday evening’s all-local food buffet is a favorite of previous attendees. Lodge rooms are available at reasonable rates\, and a variety of dietary options. \nHow: Register to attend here! Must register by October 27th\, 2023
URL:https://kyheartwood.org/event/sierra-club-annual-gathering-come-together-east-to-west/
LOCATION:Rough River Dam State Resort Park\, 450 Lodge Rd\, Falls of Rough\, KY\, 40119\, United States
ATTACH;FMTTYPE=image/jpeg:https://e3caiphmd3c.exactdn.com/wp-content/uploads/2023/11/rtaImage.jpg
END:VEVENT
BEGIN:VEVENT
DTSTART;TZID=America/Halifax:20231105T173000
DTEND;TZID=America/Halifax:20231105T203000
DTSTAMP:20260422T084938
CREATED:20231101T172231Z
LAST-MODIFIED:20231101T172231Z
UID:1673-1699205400-1699216200@kyheartwood.org
SUMMARY:2023 STUART BUTLER AWARD DINNER
DESCRIPTION:What and Why:  Many of us cherish the memory of Stuart Butler\, who was a dear friend and loyal champion of so many causes. To honor Stu and his legacy\, Kentucky Heartwood is hosting the 14th Annual Stuart Butler Memorial Dinner in November at the Unitarian Universalist Church in Lexington Kentucky. Anyone who knew Stu or wants to honor his legacy is invited to attend. The event will feature dinner\, music\, a ceremony\, and a presentation of the 2023 Stuart Butler Memorial Award to a deserving recipient.  We suggest a $25 donation per/person to cover dinner\, venue rental\, and the continuation of our mission. More correspondence to come! \nHow: This event is open to all Kentucky Heartwood members and supporters.
URL:https://kyheartwood.org/event/2023-stuart-butler-award-dinner/
LOCATION:UU Church of Lexington\, 3564 Clays Mill Rd\, Lexington\, Kentucky\, 40503
END:VEVENT
BEGIN:VEVENT
DTSTART;TZID=America/Halifax:20230818T150000
DTEND;TZID=America/Halifax:20230818T190000
DTSTAMP:20260422T084938
CREATED:20230818T173553Z
LAST-MODIFIED:20231101T155643Z
UID:1603-1692370800-1692385200@kyheartwood.org
SUMMARY:Goldenrod Gathering​
DESCRIPTION:Join us for a day of plant magic in the foothills of the Appalachian mountains at Sylvatica Forest Farm.\n\nWe will have workshops throughout the afternoon\, a herbal market with beautiful and unique local vendors inside the hand-build Log House and a kid’s zone with plant-based activities for the little ones.\nOur host\, Joana will lead a farm tour and a plant hydrosol distillation demonstration.\n\nA vegan Mushroom soup will be served for dinner but feel free to bring your own food/snacks and join us!\nHerbal Tea will be available all day so bring your own mug!\nBring your family and friends but please leave your pets at home.\n\nThis event is put on by Kentucky Herbalism Alliance\, a group of herb-lovers\, herbalists and farmers that volunteer to bring you this beautiful day. We kindly ask for your donation\, if you are able\, so that we can at least cover our costs and feel able to continue organizing!\n\nDirections:\nThere is no cell service in the valley so download directions prior to heading out there: 812 Anglin Falls road\, Mt. Vernon KY 40456\, If you google Sylvatica Forest Farm you will get the right address\, mailboxes are out of order!
URL:https://kyheartwood.org/event/goldenrod-gathering/
LOCATION:Sylvatica Forest Farm\, 812 Anglin Falls Road\, Mt. Vernon\, KY\, 40456\, United States
ATTACH;FMTTYPE=image/jpeg:https://e3caiphmd3c.exactdn.com/wp-content/uploads/2023/08/goldenrod-gathering.jpg
END:VEVENT
END:VCALENDAR